BEGIN:VCALENDAR
VERSION:2.0
PRODID:-//Anna Maria Island Turtle Watch &amp; Shorebird Monitoring - ECPv6.15.20//NONSGML v1.0//EN
CALSCALE:GREGORIAN
METHOD:PUBLISH
X-ORIGINAL-URL:https://islandturtlewatch.com
X-WR-CALDESC:Events for Anna Maria Island Turtle Watch &amp; Shorebird Monitoring
REFRESH-INTERVAL;VALUE=DURATION:PT1H
X-Robots-Tag:noindex
X-PUBLISHED-TTL:PT1H
BEGIN:VTIMEZONE
TZID:America/New_York
BEGIN:DAYLIGHT
TZOFFSETFROM:-0500
TZOFFSETTO:-0400
TZNAME:EDT
DTSTART:20250309T070000
END:DAYLIGHT
BEGIN:STANDARD
TZOFFSETFROM:-0400
TZOFFSETTO:-0500
TZNAME:EST
DTSTART:20251102T060000
END:STANDARD
BEGIN:DAYLIGHT
TZOFFSETFROM:-0500
TZOFFSETTO:-0400
TZNAME:EDT
DTSTART:20260308T070000
END:DAYLIGHT
BEGIN:STANDARD
TZOFFSETFROM:-0400
TZOFFSETTO:-0500
TZNAME:EST
DTSTART:20261101T060000
END:STANDARD
BEGIN:DAYLIGHT
TZOFFSETFROM:-0500
TZOFFSETTO:-0400
TZNAME:EDT
DTSTART:20270314T070000
END:DAYLIGHT
BEGIN:STANDARD
TZOFFSETFROM:-0400
TZOFFSETTO:-0500
TZNAME:EST
DTSTART:20271107T060000
END:STANDARD
END:VTIMEZONE
BEGIN:VEVENT
DTSTART;TZID=America/New_York:20260720T100000
DTEND;TZID=America/New_York:20260720T110000
DTSTAMP:20260424T125619
CREATED:20260107T155327Z
LAST-MODIFIED:20260107T155330Z
UID:3731-1784541600-1784545200@islandturtlewatch.com
SUMMARY:Turtle Tracks & Shorebird Facts
DESCRIPTION:Come join us to learn about sea turtles and shorebirds of Anna Maria Island from the volunteers that patrol the island to protect them. Lots of fun for all ages! Informative presentation\, handouts\, activity books and tattoos for the young and young at heart!
URL:https://islandturtlewatch.com/event/turtle-tracks-shorebird-facts-2-2-2-2-2-2-2-2-2/
LOCATION:Holmes Beach City Hall\, 5801 Marina Drive\, Holmes Beach\, Florida\, 34217
ORGANIZER;CN="Anna Maria Island Turtle Watch":MAILTO:info@islandturtlewatch.com
END:VEVENT
BEGIN:VEVENT
DTSTART;TZID=America/New_York:20260727T100000
DTEND;TZID=America/New_York:20260727T110000
DTSTAMP:20260424T125619
CREATED:20260107T155450Z
LAST-MODIFIED:20260107T155453Z
UID:3733-1785146400-1785150000@islandturtlewatch.com
SUMMARY:Turtle Tracks & Shorebird Facts
DESCRIPTION:Come join us to learn about sea turtles and shorebirds of Anna Maria Island from the volunteers that patrol the island to protect them. Lots of fun for all ages! Informative presentation\, handouts\, activity books and tattoos for the young and young at heart!
URL:https://islandturtlewatch.com/event/turtle-tracks-shorebird-facts-2-2-2-2-2-2-2-2-2-2/
LOCATION:Holmes Beach City Hall\, 5801 Marina Drive\, Holmes Beach\, Florida\, 34217
ORGANIZER;CN="Anna Maria Island Turtle Watch":MAILTO:info@islandturtlewatch.com
END:VEVENT
BEGIN:VEVENT
DTSTART;TZID=America/New_York:20260803T100000
DTEND;TZID=America/New_York:20260803T110000
DTSTAMP:20260424T125619
CREATED:20260107T155521Z
LAST-MODIFIED:20260107T155524Z
UID:3735-1785751200-1785754800@islandturtlewatch.com
SUMMARY:Turtle Tracks & Shorebird Facts
DESCRIPTION:Come join us to learn about sea turtles and shorebirds of Anna Maria Island from the volunteers that patrol the island to protect them. Lots of fun for all ages! Informative presentation\, handouts\, activity books and tattoos for the young and young at heart!
URL:https://islandturtlewatch.com/event/turtle-tracks-shorebird-facts-2-2-2-2-2-2-2-2-2-2-2/
LOCATION:Holmes Beach City Hall\, 5801 Marina Drive\, Holmes Beach\, Florida\, 34217
ORGANIZER;CN="Anna Maria Island Turtle Watch":MAILTO:info@islandturtlewatch.com
END:VEVENT
BEGIN:VEVENT
DTSTART;TZID=America/New_York:20260810T100000
DTEND;TZID=America/New_York:20260810T110000
DTSTAMP:20260424T125619
CREATED:20260107T155555Z
LAST-MODIFIED:20260107T155557Z
UID:3737-1786356000-1786359600@islandturtlewatch.com
SUMMARY:Turtle Tracks & Shorebird Facts
DESCRIPTION:Come join us to learn about sea turtles and shorebirds of Anna Maria Island from the volunteers that patrol the island to protect them. Lots of fun for all ages! Informative presentation\, handouts\, activity books and tattoos for the young and young at heart!
URL:https://islandturtlewatch.com/event/turtle-tracks-shorebird-facts-2-2-2-2-2-2-2-2-2-2-2-2/
LOCATION:Holmes Beach City Hall\, 5801 Marina Drive\, Holmes Beach\, Florida\, 34217
ORGANIZER;CN="Anna Maria Island Turtle Watch":MAILTO:info@islandturtlewatch.com
END:VEVENT
BEGIN:VEVENT
DTSTART;TZID=America/New_York:20260817T100000
DTEND;TZID=America/New_York:20260817T110000
DTSTAMP:20260424T125619
CREATED:20260107T155648Z
LAST-MODIFIED:20260107T155651Z
UID:3739-1786960800-1786964400@islandturtlewatch.com
SUMMARY:Turtle Tracks & Shorebird Facts
DESCRIPTION:Come join us to learn about sea turtles and shorebirds of Anna Maria Island from the volunteers that patrol the island to protect them. Lots of fun for all ages! Informative presentation\, handouts\, activity books and tattoos for the young and young at heart!
URL:https://islandturtlewatch.com/event/turtle-tracks-shorebird-facts-2-2-2-2-2-2-2-2-2-2-2-2-2/
LOCATION:Holmes Beach City Hall\, 5801 Marina Drive\, Holmes Beach\, Florida\, 34217
ORGANIZER;CN="Anna Maria Island Turtle Watch":MAILTO:info@islandturtlewatch.com
END:VEVENT
BEGIN:VEVENT
DTSTART;TZID=America/New_York:20260824T100000
DTEND;TZID=America/New_York:20260824T110000
DTSTAMP:20260424T125619
CREATED:20260107T155716Z
LAST-MODIFIED:20260107T155719Z
UID:3741-1787565600-1787569200@islandturtlewatch.com
SUMMARY:Turtle Tracks & Shorebird Facts
DESCRIPTION:Come join us to learn about sea turtles and shorebirds of Anna Maria Island from the volunteers that patrol the island to protect them. Lots of fun for all ages! Informative presentation\, handouts\, activity books and tattoos for the young and young at heart!
URL:https://islandturtlewatch.com/event/turtle-tracks-shorebird-facts-2-2-2-2-2-2-2-2-2-2-2-2-2-2/
LOCATION:Holmes Beach City Hall\, 5801 Marina Drive\, Holmes Beach\, Florida\, 34217
ORGANIZER;CN="Anna Maria Island Turtle Watch":MAILTO:info@islandturtlewatch.com
END:VEVENT
BEGIN:VEVENT
DTSTART;TZID=America/New_York:20260831T100000
DTEND;TZID=America/New_York:20260831T110000
DTSTAMP:20260424T125619
CREATED:20260107T155739Z
LAST-MODIFIED:20260107T155743Z
UID:3743-1788170400-1788174000@islandturtlewatch.com
SUMMARY:Turtle Tracks & Shorebird Facts
DESCRIPTION:Come join us to learn about sea turtles and shorebirds of Anna Maria Island from the volunteers that patrol the island to protect them. Lots of fun for all ages! Informative presentation\, handouts\, activity books and tattoos for the young and young at heart!
URL:https://islandturtlewatch.com/event/turtle-tracks-shorebird-facts-2-2-2-2-2-2-2-2-2-2-2-2-2-2-2/
LOCATION:Holmes Beach City Hall\, 5801 Marina Drive\, Holmes Beach\, Florida\, 34217
ORGANIZER;CN="Anna Maria Island Turtle Watch":MAILTO:info@islandturtlewatch.com
END:VEVENT
BEGIN:VEVENT
DTSTART;TZID=America/New_York:20261021T040000
DTEND;TZID=America/New_York:20261021T180000
DTSTAMP:20260424T125619
CREATED:20260107T160717Z
LAST-MODIFIED:20260107T160722Z
UID:3746-1792555200-1792605600@islandturtlewatch.com
SUMMARY:Suzi Fox Turtle Watch Wednesday Fundraiser
DESCRIPTION:Come join us for Anna Maria Island Turtle Watch’s Annual Fundraiser. Silent auction\, food and drink specials\, Live auction with Auctioneer Bob Slicker\, Live Music by Mike Sales and much more!
URL:https://islandturtlewatch.com/event/suzi-fox-turtle-watch-wednesday-fundraiser/
LOCATION:Hurricane Hanks\, 5346 Gulf Drive\, Holmes Beach\, Florida\, 34217
ORGANIZER;CN="Anna Maria Island Turtle Watch":MAILTO:info@islandturtlewatch.com
END:VEVENT
END:VCALENDAR