BEGIN:VCALENDAR
VERSION:2.0
PRODID:-//Anna Maria Island Turtle Watch &amp; Shorebird Monitoring - ECPv6.15.20//NONSGML v1.0//EN
CALSCALE:GREGORIAN
METHOD:PUBLISH
X-ORIGINAL-URL:https://islandturtlewatch.com
X-WR-CALDESC:Events for Anna Maria Island Turtle Watch &amp; Shorebird Monitoring
REFRESH-INTERVAL;VALUE=DURATION:PT1H
X-Robots-Tag:noindex
X-PUBLISHED-TTL:PT1H
BEGIN:VTIMEZONE
TZID:America/New_York
BEGIN:DAYLIGHT
TZOFFSETFROM:-0500
TZOFFSETTO:-0400
TZNAME:EDT
DTSTART:20250309T070000
END:DAYLIGHT
BEGIN:STANDARD
TZOFFSETFROM:-0400
TZOFFSETTO:-0500
TZNAME:EST
DTSTART:20251102T060000
END:STANDARD
BEGIN:DAYLIGHT
TZOFFSETFROM:-0500
TZOFFSETTO:-0400
TZNAME:EDT
DTSTART:20260308T070000
END:DAYLIGHT
BEGIN:STANDARD
TZOFFSETFROM:-0400
TZOFFSETTO:-0500
TZNAME:EST
DTSTART:20261101T060000
END:STANDARD
BEGIN:DAYLIGHT
TZOFFSETFROM:-0500
TZOFFSETTO:-0400
TZNAME:EDT
DTSTART:20270314T070000
END:DAYLIGHT
BEGIN:STANDARD
TZOFFSETFROM:-0400
TZOFFSETTO:-0500
TZNAME:EST
DTSTART:20271107T060000
END:STANDARD
END:VTIMEZONE
BEGIN:VEVENT
DTSTART;TZID=America/New_York:20260415T100000
DTEND;TZID=America/New_York:20260415T110000
DTSTAMP:20260424T125743
CREATED:20260327T112100Z
LAST-MODIFIED:20260327T112102Z
UID:3817-1776247200-1776250800@islandturtlewatch.com
SUMMARY:Turtle Season Workshop
DESCRIPTION:Learn about Nesting Season\, Safe Lighting Tips\, & Good Beach Habits. Residents\, Businesses and Visitors Welcome! Come and learn about how you can help us protect our nesting sea turtles!
URL:https://islandturtlewatch.com/event/turtle-season-workshop/
LOCATION:Holmes Beach City Hall\, 5801 Marina Drive\, Holmes Beach\, Florida\, 34217
END:VEVENT
BEGIN:VEVENT
DTSTART;TZID=America/New_York:20260407T090000
DTEND;TZID=America/New_York:20260407T140000
DTSTAMP:20260424T125743
CREATED:20260107T162630Z
LAST-MODIFIED:20260107T162631Z
UID:3770-1775552400-1775570400@islandturtlewatch.com
SUMMARY:AMI Turtle Watch at Anna Maria Farmer's Market
DESCRIPTION:Come visit with volunteers of Anna Maria Island Turtle Watch and learn about sea turtles and shorebirds of Anna Maria Island. Purchase merchandise (hats\, hoodies\, t-shirts\, books\, ornaments\, notecards and more!) to help support their efforts!
URL:https://islandturtlewatch.com/event/ami-turtle-watch-at-anna-maria-farmers-market-2-2-2-2/
LOCATION:Roser Church\, 512 Pine Ave\, Anna Maria\, Florida\, 34216
END:VEVENT
BEGIN:VEVENT
DTSTART;TZID=America/New_York:20260331T090000
DTEND;TZID=America/New_York:20260331T140000
DTSTAMP:20260424T125743
CREATED:20260107T162549Z
LAST-MODIFIED:20260107T162550Z
UID:3768-1774947600-1774965600@islandturtlewatch.com
SUMMARY:AMI Turtle Watch at Anna Maria Farmer's Market
DESCRIPTION:Come visit with volunteers of Anna Maria Island Turtle Watch and learn about sea turtles and shorebirds of Anna Maria Island. Purchase merchandise (hats\, hoodies\, t-shirts\, books\, ornaments\, notecards and more!) to help support their efforts!
URL:https://islandturtlewatch.com/event/ami-turtle-watch-at-anna-maria-farmers-market-2-2-2/
LOCATION:Roser Church\, 512 Pine Ave\, Anna Maria\, Florida\, 34216
END:VEVENT
BEGIN:VEVENT
DTSTART;TZID=America/New_York:20260317T090000
DTEND;TZID=America/New_York:20260317T140000
DTSTAMP:20260424T125743
CREATED:20260107T162516Z
LAST-MODIFIED:20260107T162517Z
UID:3766-1773738000-1773756000@islandturtlewatch.com
SUMMARY:AMI Turtle Watch at Anna Maria Farmer's Market
DESCRIPTION:Come visit with volunteers of Anna Maria Island Turtle Watch and learn about sea turtles and shorebirds of Anna Maria Island. Purchase merchandise (hats\, hoodies\, t-shirts\, books\, ornaments\, notecards and more!) to help support their efforts!
URL:https://islandturtlewatch.com/event/ami-turtle-watch-at-anna-maria-farmers-market-2-2/
LOCATION:Roser Church\, 512 Pine Ave\, Anna Maria\, Florida\, 34216
END:VEVENT
BEGIN:VEVENT
DTSTART;TZID=America/New_York:20260217T090000
DTEND;TZID=America/New_York:20260217T140000
DTSTAMP:20260424T125743
CREATED:20260107T162447Z
LAST-MODIFIED:20260107T162450Z
UID:3764-1771318800-1771336800@islandturtlewatch.com
SUMMARY:AMI Turtle Watch at Anna Maria Farmer's Market
DESCRIPTION:Come visit with volunteers of Anna Maria Island Turtle Watch and learn about sea turtles and shorebirds of Anna Maria Island. Purchase merchandise (hats\, hoodies\, t-shirts\, books\, ornaments\, notecards and more!) to help support their efforts!
URL:https://islandturtlewatch.com/event/ami-turtle-watch-at-anna-maria-farmers-market-2/
LOCATION:Roser Church\, 512 Pine Ave\, Anna Maria\, Florida\, 34216
END:VEVENT
BEGIN:VEVENT
DTSTART;TZID=America/New_York:20260120T090000
DTEND;TZID=America/New_York:20260120T140000
DTSTAMP:20260424T125743
CREATED:20260107T162409Z
LAST-MODIFIED:20260107T162412Z
UID:3756-1768899600-1768917600@islandturtlewatch.com
SUMMARY:AMI Turtle Watch at Anna Maria Farmer's Market
DESCRIPTION:Come visit with volunteers of Anna Maria Island Turtle Watch and learn about sea turtles and shorebirds of Anna Maria Island. Purchase merchandise (hats\, hoodies\, t-shirts\, books\, ornaments\, notecards and more!) to help support their efforts!
URL:https://islandturtlewatch.com/event/ami-turtle-watch-at-anna-maria-farmers-market/
LOCATION:Roser Church\, 512 Pine Ave\, Anna Maria\, Florida\, 34216
END:VEVENT
END:VCALENDAR